BEGIN:VCALENDAR
VERSION:2.0
PRODID:-// - ECPv5.16.3.1//NONSGML v1.0//EN
CALSCALE:GREGORIAN
METHOD:PUBLISH
X-ORIGINAL-URL:https://www.orchidseeos.com
X-WR-CALDESC:Events for 
BEGIN:VTIMEZONE
TZID:America/New_York
BEGIN:DAYLIGHT
TZOFFSETFROM:-0500
TZOFFSETTO:-0400
TZNAME:EDT
DTSTART:20210314T070000
END:DAYLIGHT
BEGIN:STANDARD
TZOFFSETFROM:-0400
TZOFFSETTO:-0500
TZNAME:EST
DTSTART:20211107T060000
END:STANDARD
END:VTIMEZONE
BEGIN:VEVENT
DTSTART;TZID=America/New_York:20210710T130000
DTEND;TZID=America/New_York:20210710T170000
DTSTAMP:20260420T010848
CREATED:20210707T210247Z
LAST-MODIFIED:20210707T210247Z
UID:1630-1625922000-1625936400@www.orchidseeos.com
SUMMARY:AOS OUTREACH ORCHID JUDGING EVENT
DESCRIPTION:On Saturday\, July 10\, 2021\, the American Orchid Society will be at the Banyon Pavilion for an AOS Outreach Judging event\, hosted by the East Everglades Orchid Society.  Bring in any of your blooming orchids to be considered for judging.  Registration begins at 1:00 p.m. and judging will be between 2:00 and 5:00 p.m.  Quite possibly\, you could walk away with an AOS award and go down on the annals of the AOS forever!
URL:https://www.orchidseeos.com/event/aos-outreach-orchid-judging-event/
LOCATION:R.F. Orchids\, 28100 Southwest 182nd Avenue\, Homestead\, FL\, 33030\, United States
END:VEVENT
END:VCALENDAR