BEGIN:VCALENDAR
VERSION:2.0
PRODID:-// - ECPv5.16.3.1//NONSGML v1.0//EN
CALSCALE:GREGORIAN
METHOD:PUBLISH
X-ORIGINAL-URL:https://www.orchidseeos.com
X-WR-CALDESC:Events for 
BEGIN:VTIMEZONE
TZID:America/New_York
BEGIN:DAYLIGHT
TZOFFSETFROM:-0500
TZOFFSETTO:-0400
TZNAME:EDT
DTSTART:20210314T070000
END:DAYLIGHT
BEGIN:STANDARD
TZOFFSETFROM:-0400
TZOFFSETTO:-0500
TZNAME:EST
DTSTART:20211107T060000
END:STANDARD
END:VTIMEZONE
BEGIN:VEVENT
DTSTART;TZID=America/New_York:20210126T190000
DTEND;TZID=America/New_York:20210126T220000
DTSTAMP:20260420T030540
CREATED:20210125T165005Z
LAST-MODIFIED:20210125T165005Z
UID:1560-1611687600-1611698400@www.orchidseeos.com
SUMMARY:EEOS January 2021 Member Meeting via Zoom
DESCRIPTION:“Rarities and Oddities of the Orchid World\,” with Ron Parsons \nTopic: East Everglades OS January 2021 Meeting\nTime: Jan 26\, 2021 07:00 PM Eastern Time (US and Canada) \nJoin Zoom Meeting\nhttps://us02web.zoom.us/j/82461416304?pwd=QXBzWSs3SkVoZVZzd3NaV0luaXRZdz09 \nMeeting ID: 824 6141 6304\nPasscode: 517176
URL:https://www.orchidseeos.com/event/eeos-january-2021-member-meeting-via-zoom/
END:VEVENT
END:VCALENDAR