BEGIN:VCALENDAR
VERSION:2.0
PRODID:-// - ECPv5.16.3.1//NONSGML v1.0//EN
CALSCALE:GREGORIAN
METHOD:PUBLISH
X-ORIGINAL-URL:https://www.orchidseeos.com
X-WR-CALDESC:Events for 
BEGIN:VTIMEZONE
TZID:America/New_York
BEGIN:DAYLIGHT
TZOFFSETFROM:-0500
TZOFFSETTO:-0400
TZNAME:EDT
DTSTART:20220313T070000
END:DAYLIGHT
BEGIN:STANDARD
TZOFFSETFROM:-0400
TZOFFSETTO:-0500
TZNAME:EST
DTSTART:20221106T060000
END:STANDARD
END:VTIMEZONE
BEGIN:VEVENT
DTSTART;TZID=America/New_York:20220518T000000
DTEND;TZID=America/New_York:20220518T000000
DTSTAMP:20260420T024134
CREATED:20220518T231845Z
LAST-MODIFIED:20220518T231845Z
UID:1559-1652832000-1652832000@www.orchidseeos.com
SUMMARY:EEOS Member Meeting
DESCRIPTION:
URL:https://www.orchidseeos.com/event/eeos-member-meeting/
END:VEVENT
END:VCALENDAR