BEGIN:VCALENDAR
VERSION:2.0
PRODID:-// - ECPv5.16.3.1//NONSGML v1.0//EN
CALSCALE:GREGORIAN
METHOD:PUBLISH
X-ORIGINAL-URL:https://www.orchidseeos.com
X-WR-CALDESC:Events for 
BEGIN:VTIMEZONE
TZID:America/New_York
BEGIN:DAYLIGHT
TZOFFSETFROM:-0500
TZOFFSETTO:-0400
TZNAME:EDT
DTSTART:20210314T070000
END:DAYLIGHT
BEGIN:STANDARD
TZOFFSETFROM:-0400
TZOFFSETTO:-0500
TZNAME:EST
DTSTART:20211107T060000
END:STANDARD
END:VTIMEZONE
BEGIN:VEVENT
DTSTART;TZID=America/New_York:20210928T070000
DTEND;TZID=America/New_York:20210928T220000
DTSTAMP:20260420T010629
CREATED:20210908T020615Z
LAST-MODIFIED:20210908T020615Z
UID:1688-1632812400-1632866400@www.orchidseeos.com
SUMMARY:September Meeting
DESCRIPTION:Tuesday\, September 28th\, 2021 \n“Unique and Wonderful Plants” \nBy Ellis Brown
URL:https://www.orchidseeos.com/event/september-meeting/
LOCATION:18710 SW 288th St\, Homestead\, FL\, Homestead\, United States
END:VEVENT
END:VCALENDAR